BEGIN:VCALENDAR
VERSION:2.0
PRODID:-//Edmonton Primary School - ECPv6.1.3//NONSGML v1.0//EN
CALSCALE:GREGORIAN
METHOD:PUBLISH
X-WR-CALNAME:Edmonton Primary School
X-ORIGINAL-URL:https://www.edmonton-primary.school.nz
X-WR-CALDESC:Events for Edmonton Primary School
REFRESH-INTERVAL;VALUE=DURATION:PT1H
X-Robots-Tag:noindex
X-PUBLISHED-TTL:PT1H
BEGIN:VTIMEZONE
TZID:Pacific/Auckland
BEGIN:STANDARD
TZOFFSETFROM:+1300
TZOFFSETTO:+1200
TZNAME:NZST
DTSTART:20260404T140000
END:STANDARD
BEGIN:DAYLIGHT
TZOFFSETFROM:+1200
TZOFFSETTO:+1300
TZNAME:NZDT
DTSTART:20260926T140000
END:DAYLIGHT
END:VTIMEZONE
BEGIN:VEVENT
DTSTART;TZID=Pacific/Auckland:20260806T120500
DTEND;TZID=Pacific/Auckland:20260806T210000
DTSTAMP:20260422T104036
CREATED:20260212T205300Z
LAST-MODIFIED:20260212T205300Z
UID:1681-1786017900-1786050000@www.edmonton-primary.school.nz
SUMMARY:Parent Teacher Interviews
DESCRIPTION:12:05 Finish
URL:https://www.edmonton-primary.school.nz/event/parent-teacher-interviews-2/
LOCATION:Edmonton Primary School
END:VEVENT
END:VCALENDAR