BEGIN:VCALENDAR
VERSION:2.0
PRODID:-//Edmonton Primary School - ECPv6.1.3//NONSGML v1.0//EN
CALSCALE:GREGORIAN
METHOD:PUBLISH
X-WR-CALNAME:Edmonton Primary School
X-ORIGINAL-URL:https://www.edmonton-primary.school.nz
X-WR-CALDESC:Events for Edmonton Primary School
REFRESH-INTERVAL;VALUE=DURATION:PT1H
X-Robots-Tag:noindex
X-PUBLISHED-TTL:PT1H
BEGIN:VTIMEZONE
TZID:Pacific/Auckland
BEGIN:STANDARD
TZOFFSETFROM:+1300
TZOFFSETTO:+1200
TZNAME:NZST
DTSTART:20260404T140000
END:STANDARD
BEGIN:DAYLIGHT
TZOFFSETFROM:+1200
TZOFFSETTO:+1300
TZNAME:NZDT
DTSTART:20260926T140000
END:DAYLIGHT
END:VTIMEZONE
BEGIN:VEVENT
DTSTART;TZID=Pacific/Auckland:20260526T180000
DTEND;TZID=Pacific/Auckland:20260526T200000
DTSTAMP:20260422T001657
CREATED:20260223T001333Z
LAST-MODIFIED:20260223T001333Z
UID:1693-1779818400-1779825600@www.edmonton-primary.school.nz
SUMMARY:Board of Trustees Meeting
DESCRIPTION:
URL:https://www.edmonton-primary.school.nz/event/board-of-trustees-meeting-5/
LOCATION:Edmonton School Staff Room
END:VEVENT
END:VCALENDAR