BEGIN:VCALENDAR
VERSION:2.0
PRODID:-//Edmonton Primary School - ECPv6.1.3//NONSGML v1.0//EN
CALSCALE:GREGORIAN
METHOD:PUBLISH
X-ORIGINAL-URL:https://www.edmonton-primary.school.nz
X-WR-CALDESC:Events for Edmonton Primary School
REFRESH-INTERVAL;VALUE=DURATION:PT1H
X-Robots-Tag:noindex
X-PUBLISHED-TTL:PT1H
BEGIN:VTIMEZONE
TZID:Pacific/Auckland
BEGIN:STANDARD
TZOFFSETFROM:+1300
TZOFFSETTO:+1200
TZNAME:NZST
DTSTART:20260404T140000
END:STANDARD
BEGIN:DAYLIGHT
TZOFFSETFROM:+1200
TZOFFSETTO:+1300
TZNAME:NZDT
DTSTART:20260926T140000
END:DAYLIGHT
END:VTIMEZONE
BEGIN:VEVENT
DTSTART;TZID=Pacific/Auckland:20260306T091000
DTEND;TZID=Pacific/Auckland:20260306T100000
DTSTAMP:20260422T002740
CREATED:20260209T001247Z
LAST-MODIFIED:20260209T001247Z
UID:1665-1772788200-1772791200@www.edmonton-primary.school.nz
SUMMARY:Whole School Assembly
DESCRIPTION:Rooms 7 & 11 Hosting
URL:https://www.edmonton-primary.school.nz/event/whole-school-assembly-19/
LOCATION:Edmonton Primary School Hall\, 1-29 School Road\, Auckland\, Auckland\, 0610\, New Zealand
END:VEVENT
BEGIN:VEVENT
DTSTART;TZID=Pacific/Auckland:20260320T091000
DTEND;TZID=Pacific/Auckland:20260320T100000
DTSTAMP:20260422T002740
CREATED:20260209T001338Z
LAST-MODIFIED:20260209T001338Z
UID:1667-1773997800-1774000800@www.edmonton-primary.school.nz
SUMMARY:Whole School Assembly
DESCRIPTION:Rooms 3 & 10 Hosting
URL:https://www.edmonton-primary.school.nz/event/whole-school-assembly-20/
LOCATION:Edmonton Primary School Hall\, 1-29 School Road\, Auckland\, Auckland\, 0610\, New Zealand
END:VEVENT
BEGIN:VEVENT
DTSTART;TZID=Pacific/Auckland:20260324T180000
DTEND;TZID=Pacific/Auckland:20260324T200000
DTSTAMP:20260422T002740
CREATED:20260223T001234Z
LAST-MODIFIED:20260223T001234Z
UID:1691-1774375200-1774382400@www.edmonton-primary.school.nz
SUMMARY:Board of Trustees Meeting
DESCRIPTION:
URL:https://www.edmonton-primary.school.nz/event/board-of-trustees-meeting-4/
LOCATION:Edmonton School Staff Room
END:VEVENT
END:VCALENDAR