BEGIN:VCALENDAR
VERSION:2.0
PRODID:-//Edmonton Primary School - ECPv6.1.3//NONSGML v1.0//EN
CALSCALE:GREGORIAN
METHOD:PUBLISH
X-ORIGINAL-URL:https://www.edmonton-primary.school.nz
X-WR-CALDESC:Events for Edmonton Primary School
REFRESH-INTERVAL;VALUE=DURATION:PT1H
X-Robots-Tag:noindex
X-PUBLISHED-TTL:PT1H
BEGIN:VTIMEZONE
TZID:Pacific/Auckland
BEGIN:STANDARD
TZOFFSETFROM:+1300
TZOFFSETTO:+1200
TZNAME:NZST
DTSTART:20250405T140000
END:STANDARD
BEGIN:DAYLIGHT
TZOFFSETFROM:+1200
TZOFFSETTO:+1300
TZNAME:NZDT
DTSTART:20250927T140000
END:DAYLIGHT
END:VTIMEZONE
BEGIN:VEVENT
DTSTART;VALUE=DATE:20250922
DTEND;VALUE=DATE:20251004
DTSTAMP:20260422T124639
CREATED:20240813T003330Z
LAST-MODIFIED:20240813T003330Z
UID:1276-1758499200-1759535999@www.edmonton-primary.school.nz
SUMMARY:SCHOOL HOLIDAYS
DESCRIPTION:
URL:https://www.edmonton-primary.school.nz/event/school-holidays-9/
END:VEVENT
BEGIN:VEVENT
DTSTART;TZID=Pacific/Auckland:20251008T083000
DTEND;TZID=Pacific/Auckland:20251008T140000
DTSTAMP:20260422T124639
CREATED:20241202T221521Z
LAST-MODIFIED:20241202T221521Z
UID:1428-1759912200-1759932000@www.edmonton-primary.school.nz
SUMMARY:School Photos
DESCRIPTION:
URL:https://www.edmonton-primary.school.nz/event/school-photos-3/
LOCATION:Edmonton Primary School Hall\, 1-29 School Road\, Auckland\, Auckland\, 0610\, New Zealand
END:VEVENT
BEGIN:VEVENT
DTSTART;TZID=Pacific/Auckland:20251017T091500
DTEND;TZID=Pacific/Auckland:20251017T100000
DTSTAMP:20260422T124639
CREATED:20251009T224126Z
LAST-MODIFIED:20251009T224139Z
UID:1563-1760692500-1760695200@www.edmonton-primary.school.nz
SUMMARY:Whole School Assembly
DESCRIPTION:(Rooms 4 & 7 hosting)
URL:https://www.edmonton-primary.school.nz/event/whole-school-assembly-15/
LOCATION:Edmonton Primary School Hall\, 1-29 School Road\, Auckland\, Auckland\, 0610\, New Zealand
END:VEVENT
BEGIN:VEVENT
DTSTART;VALUE=DATE:20251024
DTEND;VALUE=DATE:20251025
DTSTAMP:20260422T124639
CREATED:20251014T222923Z
LAST-MODIFIED:20251014T222932Z
UID:1618-1761264000-1761350399@www.edmonton-primary.school.nz
SUMMARY:Diwali Mufti Day
DESCRIPTION:
URL:https://www.edmonton-primary.school.nz/event/diwali-mufti-day/
END:VEVENT
BEGIN:VEVENT
DTSTART;VALUE=DATE:20251027
DTEND;VALUE=DATE:20251028
DTSTAMP:20260422T124639
CREATED:20240813T003845Z
LAST-MODIFIED:20240813T003845Z
UID:1282-1761523200-1761609599@www.edmonton-primary.school.nz
SUMMARY:Labour Day
DESCRIPTION:
URL:https://www.edmonton-primary.school.nz/event/labour-day-4/
END:VEVENT
BEGIN:VEVENT
DTSTART;TZID=Pacific/Auckland:20251031T091500
DTEND;TZID=Pacific/Auckland:20251031T100000
DTSTAMP:20260422T124639
CREATED:20251009T224352Z
LAST-MODIFIED:20251009T224403Z
UID:1566-1761902100-1761904800@www.edmonton-primary.school.nz
SUMMARY:Whole School Assembly
DESCRIPTION:(Rooms 3 & 11 hosting)
URL:https://www.edmonton-primary.school.nz/event/whole-school-assembly-16/
LOCATION:Edmonton Primary School Hall\, 1-29 School Road\, Auckland\, Auckland\, 0610\, New Zealand
END:VEVENT
BEGIN:VEVENT
DTSTART;TZID=Pacific/Auckland:20251031T100000
DTEND;TZID=Pacific/Auckland:20251031T100000
DTSTAMP:20260422T124639
CREATED:20251014T223041Z
LAST-MODIFIED:20251014T223049Z
UID:1620-1761904800-1761904800@www.edmonton-primary.school.nz
SUMMARY:Pirate Ship Day
DESCRIPTION:Pirate Ship Day\nEdmonton Primary School is holding a Pirate Ship Day\, on October 31st at 10am\, designed to strengthen partnerships between school and whānau while celebrating student learning in a creative and engaging way. \nThe event is to encourage strong participation from families\, and we want as many whānau to attend and actively engage in the themed day  alongside their tamariki. The day provides  authentic learning opportunities across curriculum areas\, including literacy\, the arts\, and social sciences\, as students design ships\, write pirate stories\, and present performances. \n Our whānau involvement contributes to a positive and inclusive school culture.
URL:https://www.edmonton-primary.school.nz/event/pirate-ship-day/
LOCATION:Edmonton Primary School
END:VEVENT
END:VCALENDAR