BEGIN:VCALENDAR
VERSION:2.0
PRODID:-//Edmonton Primary School - ECPv6.1.3//NONSGML v1.0//EN
CALSCALE:GREGORIAN
METHOD:PUBLISH
X-ORIGINAL-URL:https://www.edmonton-primary.school.nz
X-WR-CALDESC:Events for Edmonton Primary School
REFRESH-INTERVAL;VALUE=DURATION:PT1H
X-Robots-Tag:noindex
X-PUBLISHED-TTL:PT1H
BEGIN:VTIMEZONE
TZID:Pacific/Auckland
BEGIN:STANDARD
TZOFFSETFROM:+1300
TZOFFSETTO:+1200
TZNAME:NZST
DTSTART:20250405T140000
END:STANDARD
BEGIN:DAYLIGHT
TZOFFSETFROM:+1200
TZOFFSETTO:+1300
TZNAME:NZDT
DTSTART:20250927T140000
END:DAYLIGHT
END:VTIMEZONE
BEGIN:VEVENT
DTSTART;TZID=Pacific/Auckland:20250902T090000
DTEND;TZID=Pacific/Auckland:20250902T150000
DTSTAMP:20260422T170554
CREATED:20250512T004757Z
LAST-MODIFIED:20250512T004757Z
UID:1494-1756803600-1756825200@www.edmonton-primary.school.nz
SUMMARY:Water Skills for Life
DESCRIPTION:Children need to bring \nNamed Togs \nNamed Towel \nAppropriate Footwear \nGoggles (not essential) \nA bag to carry it all in \nPlease make sure all clothing including school uniform is named
URL:https://www.edmonton-primary.school.nz/event/water-skills-for-life-8/
END:VEVENT
BEGIN:VEVENT
DTSTART;TZID=Pacific/Auckland:20250909T090000
DTEND;TZID=Pacific/Auckland:20250909T150000
DTSTAMP:20260422T170554
CREATED:20250512T004841Z
LAST-MODIFIED:20250512T004841Z
UID:1496-1757408400-1757430000@www.edmonton-primary.school.nz
SUMMARY:Water Skills for Life
DESCRIPTION:Children need to bring \nNamed Togs \nNamed Towel \nAppropriate Footwear \nGoggles (not essential) \nA bag to carry it all in \nPlease make sure all clothing including school uniform is named
URL:https://www.edmonton-primary.school.nz/event/water-skills-for-life-9/
END:VEVENT
BEGIN:VEVENT
DTSTART;TZID=Pacific/Auckland:20250916T090000
DTEND;TZID=Pacific/Auckland:20250916T150000
DTSTAMP:20260422T170554
CREATED:20250512T004921Z
LAST-MODIFIED:20250512T004921Z
UID:1498-1758013200-1758034800@www.edmonton-primary.school.nz
SUMMARY:Water Skills for Life
DESCRIPTION:Children need to bring \nNamed Togs \nNamed Towel \nAppropriate Footwear \nGoggles (not essential) \nA bag to carry it all in \nPlease make sure all clothing including school uniform is named
URL:https://www.edmonton-primary.school.nz/event/water-skills-for-life-10/
END:VEVENT
BEGIN:VEVENT
DTSTART;TZID=Pacific/Auckland:20250917T080000
DTEND;TZID=Pacific/Auckland:20250919T150000
DTSTAMP:20260422T170554
CREATED:20250512T005052Z
LAST-MODIFIED:20250512T005052Z
UID:1500-1758096000-1758294000@www.edmonton-primary.school.nz
SUMMARY:Senior School Camp for Years 5 & 6
DESCRIPTION:
URL:https://www.edmonton-primary.school.nz/event/senior-school-camp-for-years-5-6/
END:VEVENT
BEGIN:VEVENT
DTSTART;VALUE=DATE:20250922
DTEND;VALUE=DATE:20251004
DTSTAMP:20260422T170554
CREATED:20240813T003330Z
LAST-MODIFIED:20240813T003330Z
UID:1276-1758499200-1759535999@www.edmonton-primary.school.nz
SUMMARY:SCHOOL HOLIDAYS
DESCRIPTION:
URL:https://www.edmonton-primary.school.nz/event/school-holidays-9/
END:VEVENT
END:VCALENDAR