BEGIN:VCALENDAR
VERSION:2.0
PRODID:-//Edmonton Primary School - ECPv6.1.3//NONSGML v1.0//EN
CALSCALE:GREGORIAN
METHOD:PUBLISH
X-WR-CALNAME:Edmonton Primary School
X-ORIGINAL-URL:https://www.edmonton-primary.school.nz
X-WR-CALDESC:Events for Edmonton Primary School
REFRESH-INTERVAL;VALUE=DURATION:PT1H
X-Robots-Tag:noindex
X-PUBLISHED-TTL:PT1H
BEGIN:VTIMEZONE
TZID:UTC
BEGIN:STANDARD
TZOFFSETFROM:+0000
TZOFFSETTO:+0000
TZNAME:UTC
DTSTART:20220101T000000
END:STANDARD
END:VTIMEZONE
BEGIN:VEVENT
DTSTART;TZID=UTC:20220811T123000
DTEND;TZID=UTC:20220811T203000
DTSTAMP:20260424T100046
CREATED:20220809T233810Z
LAST-MODIFIED:20220809T233810Z
UID:708-1660221000-1660249800@www.edmonton-primary.school.nz
SUMMARY:Parent Teacher Interviews
DESCRIPTION:School finishes at 12:05pm \nThere in no After School Care
URL:https://www.edmonton-primary.school.nz/event/parent-teacher-interviews/
LOCATION:Edmonton Primary School
END:VEVENT
END:VCALENDAR