BEGIN:VCALENDAR
VERSION:2.0
PRODID:-//Edmonton Primary School - ECPv6.1.3//NONSGML v1.0//EN
CALSCALE:GREGORIAN
METHOD:PUBLISH
X-WR-CALNAME:Edmonton Primary School
X-ORIGINAL-URL:https://www.edmonton-primary.school.nz
X-WR-CALDESC:Events for Edmonton Primary School
REFRESH-INTERVAL;VALUE=DURATION:PT1H
X-Robots-Tag:noindex
X-PUBLISHED-TTL:PT1H
BEGIN:VTIMEZONE
TZID:Pacific/Auckland
BEGIN:STANDARD
TZOFFSETFROM:+1300
TZOFFSETTO:+1200
TZNAME:NZST
DTSTART:20260404T140000
END:STANDARD
BEGIN:DAYLIGHT
TZOFFSETFROM:+1200
TZOFFSETTO:+1300
TZNAME:NZDT
DTSTART:20260926T140000
END:DAYLIGHT
END:VTIMEZONE
BEGIN:VEVENT
DTSTART;VALUE=DATE:20260402
DTEND;VALUE=DATE:20260403
DTSTAMP:20260422T003045
CREATED:20251009T225656Z
LAST-MODIFIED:20251009T225704Z
UID:1579-1775088000-1775174399@www.edmonton-primary.school.nz
SUMMARY:Last Day for Term 1
DESCRIPTION:
URL:https://www.edmonton-primary.school.nz/event/last-day-for-term-1/
END:VEVENT
BEGIN:VEVENT
DTSTART;VALUE=DATE:20260402
DTEND;VALUE=DATE:20260403
DTSTAMP:20260422T003045
CREATED:20260209T001424Z
LAST-MODIFIED:20260209T001424Z
UID:1669-1775088000-1775174399@www.edmonton-primary.school.nz
SUMMARY:Monstar Colour Run Fundraiser
DESCRIPTION:
URL:https://www.edmonton-primary.school.nz/event/monstar-colour-run-fundraiser/
END:VEVENT
END:VCALENDAR