BEGIN:VCALENDAR
VERSION:2.0
PRODID:-//Edmonton Primary School - ECPv6.1.3//NONSGML v1.0//EN
CALSCALE:GREGORIAN
METHOD:PUBLISH
X-WR-CALNAME:Edmonton Primary School
X-ORIGINAL-URL:https://www.edmonton-primary.school.nz
X-WR-CALDESC:Events for Edmonton Primary School
REFRESH-INTERVAL;VALUE=DURATION:PT1H
X-Robots-Tag:noindex
X-PUBLISHED-TTL:PT1H
BEGIN:VTIMEZONE
TZID:Pacific/Auckland
BEGIN:STANDARD
TZOFFSETFROM:+1300
TZOFFSETTO:+1200
TZNAME:NZST
DTSTART:20250405T140000
END:STANDARD
BEGIN:DAYLIGHT
TZOFFSETFROM:+1200
TZOFFSETTO:+1300
TZNAME:NZDT
DTSTART:20250927T140000
END:DAYLIGHT
END:VTIMEZONE
BEGIN:VEVENT
DTSTART;TZID=Pacific/Auckland:20251205T100000
DTEND;TZID=Pacific/Auckland:20251205T110000
DTSTAMP:20260422T090437
CREATED:20251127T210413Z
LAST-MODIFIED:20251127T210422Z
UID:1644-1764928800-1764932400@www.edmonton-primary.school.nz
SUMMARY:Year 6 Graduation Assembly
DESCRIPTION:
URL:https://www.edmonton-primary.school.nz/event/year-6-graduation-assembly/
END:VEVENT
END:VCALENDAR