BEGIN:VCALENDAR
VERSION:2.0
PRODID:-//Edmonton Primary School - ECPv6.1.3//NONSGML v1.0//EN
CALSCALE:GREGORIAN
METHOD:PUBLISH
X-WR-CALNAME:Edmonton Primary School
X-ORIGINAL-URL:https://www.edmonton-primary.school.nz
X-WR-CALDESC:Events for Edmonton Primary School
REFRESH-INTERVAL;VALUE=DURATION:PT1H
X-Robots-Tag:noindex
X-PUBLISHED-TTL:PT1H
BEGIN:VTIMEZONE
TZID:Pacific/Auckland
BEGIN:STANDARD
TZOFFSETFROM:+1300
TZOFFSETTO:+1200
TZNAME:NZST
DTSTART:20250405T140000
END:STANDARD
BEGIN:DAYLIGHT
TZOFFSETFROM:+1200
TZOFFSETTO:+1300
TZNAME:NZDT
DTSTART:20250927T140000
END:DAYLIGHT
END:VTIMEZONE
BEGIN:VEVENT
DTSTART;TZID=Pacific/Auckland:20251114T091500
DTEND;TZID=Pacific/Auckland:20251114T100000
DTSTAMP:20260422T124140
CREATED:20251009T224531Z
LAST-MODIFIED:20251009T224728Z
UID:1568-1763111700-1763114400@www.edmonton-primary.school.nz
SUMMARY:Whole School Assembly
DESCRIPTION:(Rooms 2 & 8 hosting)
URL:https://www.edmonton-primary.school.nz/event/whole-school-assembly-17/
LOCATION:Edmonton Primary School Hall\, 1-29 School Road\, Auckland\, Auckland\, 0610\, New Zealand
END:VEVENT
END:VCALENDAR