BEGIN:VCALENDAR
VERSION:2.0
PRODID:-//Edmonton Primary School - ECPv6.1.3//NONSGML v1.0//EN
CALSCALE:GREGORIAN
METHOD:PUBLISH
X-ORIGINAL-URL:https://www.edmonton-primary.school.nz
X-WR-CALDESC:Events for Edmonton Primary School
REFRESH-INTERVAL;VALUE=DURATION:PT1H
X-Robots-Tag:noindex
X-PUBLISHED-TTL:PT1H
BEGIN:VTIMEZONE
TZID:Pacific/Auckland
BEGIN:STANDARD
TZOFFSETFROM:+1300
TZOFFSETTO:+1200
TZNAME:NZST
DTSTART:20250405T140000
END:STANDARD
BEGIN:DAYLIGHT
TZOFFSETFROM:+1200
TZOFFSETTO:+1300
TZNAME:NZDT
DTSTART:20250927T140000
END:DAYLIGHT
END:VTIMEZONE
BEGIN:VEVENT
DTSTART;VALUE=DATE:20251027
DTEND;VALUE=DATE:20251028
DTSTAMP:20260422T124630
CREATED:20240813T003845Z
LAST-MODIFIED:20240813T003845Z
UID:1282-1761523200-1761609599@www.edmonton-primary.school.nz
SUMMARY:Labour Day
DESCRIPTION:
URL:https://www.edmonton-primary.school.nz/event/labour-day-4/
END:VEVENT
END:VCALENDAR